BEGIN:VCALENDAR
VERSION:2.0
PRODID:-//Burtle Parish Council//Meeting Calendar//EN
CALSCALE:GREGORIAN
METHOD:PUBLISH
BEGIN:VEVENT
UID:70701-20260304@burtleparishcouncil.gov.uk
DTSTAMP:20260421T150556Z
DTSTART;VALUE=DATE:20260304
DTEND;VALUE=DATE:20260305
SUMMARY:Council Meeting &#8211\\; 4th Mar 2026
DESCRIPTION:Full Council Meeting\nView details: https://burtleparishcouncil.gov.uk/meetings/council-meeting-4th-mar-2026/
URL:https://burtleparishcouncil.gov.uk/meetings/council-meeting-4th-mar-2026/
END:VEVENT
END:VCALENDAR
