BEGIN:VCALENDAR
VERSION:2.0
PRODID:-//Burtle Parish Council//Meeting Calendar//EN
CALSCALE:GREGORIAN
METHOD:PUBLISH
BEGIN:VEVENT
UID:70668-20260304@burtleparishcouncil.gov.uk
DTSTAMP:20260421T150556Z
DTSTART;VALUE=DATE:20260304
DTEND;VALUE=DATE:20260305
SUMMARY:Annual Meeting &#8211\\; 4th Mar 2026
DESCRIPTION:Annual Parish Meeting\nView details: https://burtleparishcouncil.gov.uk/meetings/annual-meeting-4th-march-2026/
URL:https://burtleparishcouncil.gov.uk/meetings/annual-meeting-4th-march-2026/
END:VEVENT
END:VCALENDAR
