BEGIN:VCALENDAR
VERSION:2.0
PRODID:-//Burtle Parish Council//Meeting Calendar//EN
CALSCALE:GREGORIAN
METHOD:PUBLISH
BEGIN:VEVENT
UID:70666-20260107@burtleparishcouncil.gov.uk
DTSTAMP:20260421T150556Z
DTSTART;VALUE=DATE:20260107
DTEND;VALUE=DATE:20260108
SUMMARY:Council Meeting &#8211\\; 7th Jan 2026
DESCRIPTION:Full Council Meeting\nView details: https://burtleparishcouncil.gov.uk/meetings/council-meeting-7th-jan-2026/
URL:https://burtleparishcouncil.gov.uk/meetings/council-meeting-7th-jan-2026/
END:VEVENT
END:VCALENDAR
