BEGIN:VCALENDAR
VERSION:2.0
PRODID:-//Burtle Parish Council//Meeting Calendar//EN
CALSCALE:GREGORIAN
METHOD:PUBLISH
BEGIN:VEVENT
UID:70631-20251231@burtleparishcouncil.gov.uk
DTSTAMP:20260421T163213Z
DTSTART;VALUE=DATE:20251231
DTEND;VALUE=DATE:20260101
SUMMARY:Council Meetings &#8211\\; 2025
DESCRIPTION:Full Council Meeting\nView details: https://burtleparishcouncil.gov.uk/meetings/council-meetings-2025/
URL:https://burtleparishcouncil.gov.uk/meetings/council-meetings-2025/
END:VEVENT
END:VCALENDAR
