BEGIN:VCALENDAR
VERSION:2.0
PRODID:-//Burtle Parish Council//Meeting Calendar//EN
CALSCALE:GREGORIAN
METHOD:PUBLISH
BEGIN:VEVENT
UID:70607-20231231@burtleparishcouncil.gov.uk
DTSTAMP:20260421T163142Z
DTSTART;VALUE=DATE:20231231
DTEND;VALUE=DATE:20240101
SUMMARY:Council Meetings &#8211\\; 2023
DESCRIPTION:Full Council Meeting\nView details: https://burtleparishcouncil.gov.uk/meetings/council-meetings-2023/
URL:https://burtleparishcouncil.gov.uk/meetings/council-meetings-2023/
END:VEVENT
END:VCALENDAR
